BEGIN:VCALENDAR
VERSION:2.0
PRODID:-//NAMFI - ECPv6.3.3//NONSGML v1.0//EN
CALSCALE:GREGORIAN
METHOD:PUBLISH
X-WR-CALNAME:NAMFI
X-ORIGINAL-URL:https://namfi.net
X-WR-CALDESC:Events for NAMFI
REFRESH-INTERVAL;VALUE=DURATION:PT1H
X-Robots-Tag:noindex
X-PUBLISHED-TTL:PT1H
BEGIN:VTIMEZONE
TZID:UTC
BEGIN:STANDARD
TZOFFSETFROM:+0000
TZOFFSETTO:+0000
TZNAME:UTC
DTSTART:20250101T000000
END:STANDARD
END:VTIMEZONE
BEGIN:VEVENT
DTSTART;VALUE=DATE:20250113
DTEND;VALUE=DATE:20251206
DTSTAMP:20260420T085138
CREATED:20240220T085245Z
LAST-MODIFIED:20250210T151109Z
UID:10000009-1736726400-1764979199@namfi.net
SUMMARY:Training - Short Courses
DESCRIPTION:Training – Short Courses
URL:https://namfi.net/academic-event/training-short-courses/
CATEGORIES:Training
ATTACH;FMTTYPE=image/jpeg:https://namfi.net/wp-content/uploads/2024/02/NAMFI-35.jpg
END:VEVENT
BEGIN:VEVENT
DTSTART;VALUE=DATE:20250203
DTEND;VALUE=DATE:20251101
DTSTAMP:20260420T085138
CREATED:20240220T084041Z
LAST-MODIFIED:20250210T150354Z
UID:10000005-1738540800-1761955199@namfi.net
SUMMARY:Trainings - Diploma MN - FV
DESCRIPTION:Trainings
URL:https://namfi.net/academic-event/trainings-diploma-mn-fv/
CATEGORIES:Training
END:VEVENT
BEGIN:VEVENT
DTSTART;VALUE=DATE:20250203
DTEND;VALUE=DATE:20251101
DTSTAMP:20260420T085138
CREATED:20240220T084438Z
LAST-MODIFIED:20250210T150551Z
UID:10000007-1738540800-1761955199@namfi.net
SUMMARY:Training - Diploma ME - FV
DESCRIPTION:Training
URL:https://namfi.net/academic-event/training-diploma-me-fv/
CATEGORIES:Training
ATTACH;FMTTYPE=image/jpeg:https://namfi.net/wp-content/uploads/2024/02/NAMFI-52.jpg
END:VEVENT
BEGIN:VEVENT
DTSTART;VALUE=DATE:20250203
DTEND;VALUE=DATE:20251101
DTSTAMP:20260420T085138
CREATED:20250210T150506Z
LAST-MODIFIED:20250210T150506Z
UID:10000030-1738540800-1761955199@namfi.net
SUMMARY:Trainings - OOW- Deck
DESCRIPTION:Trainings
URL:https://namfi.net/academic-event/trainings-oow-deck/
CATEGORIES:Training
END:VEVENT
BEGIN:VEVENT
DTSTART;VALUE=DATE:20250203
DTEND;VALUE=DATE:20251101
DTSTAMP:20260420T085138
CREATED:20250210T150903Z
LAST-MODIFIED:20250210T150903Z
UID:10000031-1738540800-1761955199@namfi.net
SUMMARY:Trainings - AB - Engine
DESCRIPTION:Trainings
URL:https://namfi.net/academic-event/trainings-ab-engine/
CATEGORIES:Training
END:VEVENT
BEGIN:VEVENT
DTSTART;VALUE=DATE:20250203
DTEND;VALUE=DATE:20251101
DTSTAMP:20260420T085138
CREATED:20250210T150953Z
LAST-MODIFIED:20250210T150953Z
UID:10000032-1738540800-1761955199@namfi.net
SUMMARY:Training - Electro- Rating
DESCRIPTION:Training
URL:https://namfi.net/academic-event/training-electro-rating/
CATEGORIES:Training
ATTACH;FMTTYPE=image/jpeg:https://namfi.net/wp-content/uploads/2024/02/NAMFI-52.jpg
END:VEVENT
END:VCALENDAR